BEGIN:VCALENDAR
VERSION:2.0
PRODID:SchoolNow
CALSCALE:GREGORIAN
BEGIN:VEVENT
UID:7ccf93f2-9893-11f0-95ff-0a58a9feac02
DTSTAMP:20250923T153927Z
SUMMARY:CDD Board Workshop - Sept. 2026
LOCATION:Oakstead Clubhouse\, 3038 Oakstead Boulevard\, Land O’ Lakes\, F
 lorida
URL;VALUE=URI:https://www.oaksteadcdd.org/calendar/8656685/cdd-board-worksh
 op-sept-2026
DTSTART:20260901T140000Z
DTEND:20260901T170000Z
END:VEVENT
END:VCALENDAR
