BEGIN:VCALENDAR
VERSION:2.0
PRODID:SchoolNow
CALSCALE:GREGORIAN
BEGIN:VEVENT
UID:72cab314-9893-11f0-bd59-0a58a9feac02
DTSTAMP:20250923T153910Z
SUMMARY:CDD Board Workshop - Aug. 2026
LOCATION:Oakstead Clubhouse\, 3038 Oakstead Boulevard\, Land O’ Lakes\, F
 lorida
URL;VALUE=URI:https://www.oaksteadcdd.org/calendar/8656684/cdd-board-worksh
 op-aug-2026
DTSTART:20260804T140000Z
DTEND:20260804T170000Z
END:VEVENT
END:VCALENDAR
