BEGIN:VCALENDAR
VERSION:2.0
PRODID:SchoolNow
CALSCALE:GREGORIAN
BEGIN:VEVENT
UID:6a20ff3e-9893-11f0-99f3-0a58a9feac02
DTSTAMP:20250923T153855Z
SUMMARY:CDD Board Workshop - Jul. 2026
LOCATION:Oakstead Clubhouse\, 3038 Oakstead Boulevard\, Land O’ Lakes\, F
 lorida
URL;VALUE=URI:https://www.oaksteadcdd.org/calendar/8656683/cdd-board-worksh
 op-jul-2026
DTSTART:20260707T140000Z
DTEND:20260707T170000Z
END:VEVENT
END:VCALENDAR
