BEGIN:VCALENDAR
VERSION:2.0
PRODID:SchoolNow
CALSCALE:GREGORIAN
BEGIN:VEVENT
UID:61f47638-9893-11f0-b4a1-0a58a9feac02
DTSTAMP:20250923T153841Z
SUMMARY:CDD Board Workshop - Jun. 2026
LOCATION:Oakstead Clubhouse\, 3038 Oakstead Boulevard\, Land O’ Lakes\, F
 lorida
URL;VALUE=URI:https://www.oaksteadcdd.org/calendar/8656682/cdd-board-worksh
 op-jun-2026
DTSTART:20260602T140000Z
DTEND:20260602T170000Z
END:VEVENT
END:VCALENDAR
