BEGIN:VCALENDAR
VERSION:2.0
PRODID:SchoolNow
CALSCALE:GREGORIAN
BEGIN:VEVENT
UID:57fa7f24-9893-11f0-9332-0a58a9feac02
DTSTAMP:20250923T153825Z
SUMMARY:CDD Board Workshop - May 2026
LOCATION:Oakstead Clubhouse\, 3038 Oakstead Boulevard\, Land O’ Lakes\, F
 lorida
URL;VALUE=URI:https://www.oaksteadcdd.org/calendar/8656681/cdd-board-worksh
 op-may-2026
DTSTART:20260505T140000Z
DTEND:20260505T170000Z
END:VEVENT
END:VCALENDAR
