BEGIN:VCALENDAR
VERSION:2.0
PRODID:SchoolNow
CALSCALE:GREGORIAN
BEGIN:VEVENT
UID:4eaafc00-9893-11f0-86e7-0affe3b30109
DTSTAMP:20260402T212103Z
SUMMARY:CDD Board Workshop - Apr. 2026
LOCATION:Oakstead Clubhouse\, 3038 Oakstead Boulevard\, Land O’ Lakes\, F
 lorida
URL;VALUE=URI:https://www.oaksteadcdd.org/calendar/8656680/cdd-board-worksh
 op-apr-2026
DTSTART:20260407T140000Z
DTEND:20260407T170000Z
ATTACH;FILENAME=2026-04-07 Oakstead CDD  Revised Final Workshop Agenda.pdf;
 FMTTYPE=application/pdf:https://campussuite-storage.s3.amazonaws.com/prod/
 1559040/90185f86-b7c8-11ea-83c1-0a96d65b7e15/3086557/d3dc11fc-2ed9-11f1-a7
 da-0a58a9feac02/file/2026-04-07 Oakstead CDD  Revised Final Workshop Agend
 a.pdf
END:VEVENT
END:VCALENDAR
