BEGIN:VCALENDAR
VERSION:2.0
PRODID:SchoolNow
CALSCALE:GREGORIAN
BEGIN:VEVENT
UID:44286b00-9893-11f0-9571-0a58a9feac02
DTSTAMP:20260303T202658Z
SUMMARY:CDD Board Workshop - Mar. 2026
LOCATION:Oakstead Clubhouse\, 3038 Oakstead Boulevard\, Land O’ Lakes\, F
 lorida
URL;VALUE=URI:https://www.oaksteadcdd.org/calendar/8656679/cdd-board-worksh
 op-mar-2026
DTSTART:20260303T150000Z
DTEND:20260303T180000Z
ATTACH;FILENAME=2026-03-03 Oakstead CDD Workshop Agenda Package.pdf;FMTTYPE
 =application/pdf:https://campussuite-storage.s3.amazonaws.com/prod/1559040
 /90185f86-b7c8-11ea-83c1-0a96d65b7e15/3076584/506545b6-173f-11f1-8ad5-0221
 fbe23d43/file/2026-03-03 Oakstead CDD Workshop Agenda Package.pdf
END:VEVENT
END:VCALENDAR
