BEGIN:VCALENDAR
VERSION:2.0
PRODID:SchoolNow
CALSCALE:GREGORIAN
BEGIN:VEVENT
UID:3b221a74-9893-11f0-a539-0a58a9feac02
DTSTAMP:20260128T130552Z
SUMMARY:CDD Board Workshop - Feb. 2026
LOCATION:Oakstead Clubhouse\, 3038 Oakstead Boulevard\, Land O’ Lakes\, F
 lorida
URL;VALUE=URI:https://www.oaksteadcdd.org/calendar/8656678/cdd-board-worksh
 op-feb-2026
DTSTART:20260203T150000Z
DTEND:20260203T180000Z
ATTACH;FILENAME=2026-02-03 Oakstead CDD Workshop Agenda Package.pdf;FMTTYPE
 =application/pdf:https://campussuite-storage.s3.amazonaws.com/prod/1559040
 /90185f86-b7c8-11ea-83c1-0a96d65b7e15/3064520/9a098880-fbc9-11f0-a73c-0a58
 a9feac02/file/2026-02-03 Oakstead CDD Workshop Agenda Package.pdf
END:VEVENT
END:VCALENDAR
