BEGIN:VCALENDAR
VERSION:2.0
PRODID:SchoolNow
CALSCALE:GREGORIAN
BEGIN:VEVENT
UID:329e981e-9893-11f0-8dfe-0a58a9feac02
DTSTAMP:20251230T201039Z
SUMMARY:CDD Board Workshop - Jan. 2026
LOCATION:Oakstead Clubhouse\, 3038 Oakstead Boulevard\, Land O’ Lakes\, F
 lorida
URL;VALUE=URI:https://www.oaksteadcdd.org/calendar/8656677/cdd-board-worksh
 op-jan-2026
DTSTART:20260106T150000Z
DTEND:20260106T180000Z
ATTACH;FILENAME=2026-01-06 Oakstead CDD Workshop Agenda.pdf;FMTTYPE=applica
 tion/pdf:https://campussuite-storage.s3.amazonaws.com/prod/1559040/90185f8
 6-b7c8-11ea-83c1-0a96d65b7e15/3055978/9789852a-e5bb-11f0-ad78-0affef73b657
 /file/2026-01-06 Oakstead CDD Workshop Agenda.pdf
END:VEVENT
END:VCALENDAR
