BEGIN:VCALENDAR
VERSION:2.0
PRODID:SchoolNow
CALSCALE:GREGORIAN
BEGIN:VEVENT
UID:2992f44a-9893-11f0-930a-0affdb44ff1b
DTSTAMP:20251125T165448Z
SUMMARY:CDD Board Workshop - Dec. 2025
LOCATION:Oakstead Clubhouse\, 3038 Oakstead Boulevard\, Land O’ Lakes\, F
 lorida
URL;VALUE=URI:https://www.oaksteadcdd.org/calendar/8656676/cdd-board-worksh
 op-dec-2025
DTSTART:20251202T150000Z
DTEND:20251202T180000Z
ATTACH;FILENAME=2025-12-02 Oakstead CDD Workshop Agenda.pdf;FMTTYPE=applica
 tion/pdf:https://campussuite-storage.s3.amazonaws.com/prod/1559040/90185f8
 6-b7c8-11ea-83c1-0a96d65b7e15/3043717/71a27cc0-ca1f-11f0-8dbe-0a58a9feac02
 /file/2025-12-02 Oakstead CDD Workshop Agenda.pdf
END:VEVENT
END:VCALENDAR
