BEGIN:VCALENDAR
VERSION:2.0
PRODID:SchoolNow
CALSCALE:GREGORIAN
BEGIN:VEVENT
UID:223c8530-9893-11f0-af89-0a58a9feac02
DTSTAMP:20251027T193255Z
SUMMARY:CDD Board Workshop - Nov. 2025
LOCATION:Oakstead Clubhouse\, 3038 Oakstead Boulevard\, Land O’ Lakes\, F
 lorida
URL;VALUE=URI:https://www.oaksteadcdd.org/calendar/8656675/cdd-board-worksh
 op-nov-2025
DTSTART:20251104T150000Z
DTEND:20251104T180000Z
ATTACH;FILENAME=2025-11-04 Oakstead Workshop Agenda Package.pdf;FMTTYPE=app
 lication/pdf:https://campussuite-storage.s3.amazonaws.com/prod/1559040/901
 85f86-b7c8-11ea-83c1-0a96d65b7e15/3026988/ba039118-b36b-11f0-9afb-0a58a9fe
 ac02/file/2025-11-04 Oakstead Workshop Agenda Package.pdf
END:VEVENT
END:VCALENDAR
