BEGIN:VCALENDAR
VERSION:2.0
PRODID:SchoolNow
CALSCALE:GREGORIAN
BEGIN:VEVENT
UID:f588097e-9892-11f0-aedb-0a58a9feac02
DTSTAMP:20250923T153540Z
SUMMARY:CDD Board Meeting - Sept. 2026
LOCATION:Oakstead Clubhouse\, 3038 Oakstead Boulevard\, Land O’ Lakes\, F
 lorida
URL;VALUE=URI:https://www.oaksteadcdd.org/calendar/8656673/cdd-board-meetin
 g-sept-2026
DTSTART:20260917T160000Z
DTEND:20260917T190000Z
END:VEVENT
END:VCALENDAR
