BEGIN:VCALENDAR
VERSION:2.0
PRODID:SchoolNow
CALSCALE:GREGORIAN
BEGIN:VEVENT
UID:eafc302a-9892-11f0-acde-0affe3b30109
DTSTAMP:20260408T211109Z
SUMMARY:CDD Board Meeting - Aug. 2026
LOCATION:Oakstead Clubhouse\, 3038 Oakstead Boulevard\, Land O’ Lakes\, F
 lorida
URL;VALUE=URI:https://www.oaksteadcdd.org/calendar/8656672/cdd-board-meetin
 g-aug-2026
DTSTART:20260826T223000Z
DTEND:20260827T013000Z
END:VEVENT
END:VCALENDAR
