BEGIN:VCALENDAR
VERSION:2.0
PRODID:SchoolNow
CALSCALE:GREGORIAN
BEGIN:VEVENT
UID:de8c7534-9892-11f0-b2a3-0a58a9feac02
DTSTAMP:20250923T153501Z
SUMMARY:CDD Board Meeting - Jul. 2026
LOCATION:Oakstead Clubhouse\, 3038 Oakstead Boulevard\, Land O’ Lakes\, F
 lorida
URL;VALUE=URI:https://www.oaksteadcdd.org/calendar/8656671/cdd-board-meetin
 g-jul-2026
DTSTART:20260716T160000Z
DTEND:20260716T190000Z
END:VEVENT
END:VCALENDAR
