BEGIN:VCALENDAR
VERSION:2.0
PRODID:SchoolNow
CALSCALE:GREGORIAN
BEGIN:VEVENT
UID:d6c6e15e-9892-11f0-8b53-02978cd4ae17
DTSTAMP:20250923T153448Z
SUMMARY:CDD Board Meeting - Jun. 2026
LOCATION:Oakstead Clubhouse\, 3038 Oakstead Boulevard\, Land O’ Lakes\, F
 lorida
URL;VALUE=URI:https://www.oaksteadcdd.org/calendar/8656670/cdd-board-meetin
 g-jun-2026
DTSTART:20260618T160000Z
DTEND:20260618T190000Z
END:VEVENT
END:VCALENDAR
