BEGIN:VCALENDAR
VERSION:2.0
PRODID:SchoolNow
CALSCALE:GREGORIAN
BEGIN:VEVENT
UID:ce7f234e-9892-11f0-a110-0a58a9feac02
DTSTAMP:20260408T211040Z
SUMMARY:CDD Board Meeting - May. 2026
LOCATION:Oakstead Clubhouse\, 3038 Oakstead Boulevard\, Land O’ Lakes\, F
 lorida
URL;VALUE=URI:https://www.oaksteadcdd.org/calendar/8656669/cdd-board-meetin
 g-may-2026
DTSTART:20260527T223000Z
DTEND:20260528T013000Z
END:VEVENT
END:VCALENDAR
