BEGIN:VCALENDAR
VERSION:2.0
PRODID:SchoolNow
CALSCALE:GREGORIAN
BEGIN:VEVENT
UID:c5b2ae0c-9892-11f0-8585-0affdb44ff1b
DTSTAMP:20260413T191945Z
SUMMARY:CDD Board Meeting - Apr. 2026
LOCATION:Oakstead Clubhouse\, 3038 Oakstead Boulevard\, Land O’ Lakes\, F
 lorida
URL;VALUE=URI:https://www.oaksteadcdd.org/calendar/8656668/cdd-board-meetin
 g-apr-2026
DTSTART:20260416T160000Z
DTEND:20260416T190000Z
ATTACH;FILENAME=2026-04-16 Oakstead CDD Revised Final Agenda Package.pdf;FM
 TTYPE=application/pdf:https://campussuite-storage.s3.amazonaws.com/prod/15
 59040/90185f86-b7c8-11ea-83c1-0a96d65b7e15/3088868/b76fd78c-376d-11f1-8047
 -0ed334700af9/file/2026-04-16 Oakstead CDD Revised Final Agenda Package.pd
 f
END:VEVENT
END:VCALENDAR
