BEGIN:VCALENDAR
VERSION:2.0
PRODID:SchoolNow
CALSCALE:GREGORIAN
BEGIN:VEVENT
UID:bdd20868-9892-11f0-8a96-0a58a9feac02
DTSTAMP:20260319T121023Z
SUMMARY:CDD Board Meeting - Mar. 2026
LOCATION:Oakstead Clubhouse\, 3038 Oakstead Boulevard\, Land O’ Lakes\, F
 lorida
URL;VALUE=URI:https://www.oaksteadcdd.org/calendar/8656667/cdd-board-meetin
 g-mar-2026
DTSTART:20260319T160000Z
DTEND:20260319T190000Z
ATTACH;FILENAME=2026-03-19 Oakstead CDD Final Agenda Package.pdf;FMTTYPE=ap
 plication/pdf:https://campussuite-storage.s3.amazonaws.com/prod/1559040/90
 185f86-b7c8-11ea-83c1-0a96d65b7e15/3079812/62f93d4e-1f1f-11f1-b57d-0a58a9f
 eac02/file/2026-03-19 Oakstead CDD Final Agenda Package.pdf
END:VEVENT
END:VCALENDAR
