BEGIN:VCALENDAR
VERSION:2.0
PRODID:SchoolNow
CALSCALE:GREGORIAN
BEGIN:VEVENT
UID:b5c4dd8a-9892-11f0-aba3-0a58a9feac02
DTSTAMP:20260303T220614Z
SUMMARY:CDD Board Meeting - Feb. 2026
LOCATION:Oakstead Clubhouse\, 3038 Oakstead Boulevard\, Land O’ Lakes\, F
 lorida
URL;VALUE=URI:https://www.oaksteadcdd.org/calendar/8656666/cdd-board-meetin
 g-feb-2026
DTSTART:20260219T170000Z
DTEND:20260219T200000Z
ATTACH;FILENAME=2026-02-19 Oakstead CDD Agenda Package.pdf;FMTTYPE=applicat
 ion/pdf:https://campussuite-storage.s3.amazonaws.com/prod/1559040/90185f86
 -b7c8-11ea-83c1-0a96d65b7e15/3076653/1b51a5be-174d-11f1-82c8-0a58a9feac02/
 file/2026-02-19 Oakstead CDD Agenda Package.pdf
END:VEVENT
END:VCALENDAR
