BEGIN:VCALENDAR
VERSION:2.0
PRODID:SchoolNow
CALSCALE:GREGORIAN
BEGIN:VEVENT
UID:adfc62d0-9892-11f0-8480-0a58a9feac02
DTSTAMP:20260113T183946Z
SUMMARY:CDD Board Meeting - Jan. 2026
LOCATION:Oakstead Clubhouse\, 3038 Oakstead Boulevard\, Land O’ Lakes\, F
 lorida
URL;VALUE=URI:https://www.oaksteadcdd.org/calendar/8656665/cdd-board-meetin
 g-jan-2026
DTSTART:20260115T170000Z
DTEND:20260115T200000Z
ATTACH;FILENAME=2026-01-15 Oakstead CDD Agenda Package.pdf;FMTTYPE=applicat
 ion/pdf:https://campussuite-storage.s3.amazonaws.com/prod/1559040/90185f86
 -b7c8-11ea-83c1-0a96d65b7e15/3059715/01f07a4c-f0af-11f0-9f50-0a58a9feac02/
 file/2026-01-15 Oakstead CDD Agenda Package.pdf
END:VEVENT
END:VCALENDAR
