BEGIN:VCALENDAR
VERSION:2.0
PRODID:SchoolNow
CALSCALE:GREGORIAN
BEGIN:VEVENT
UID:a46d1bd8-9892-11f0-8ead-0affe3b30109
DTSTAMP:20251216T203143Z
SUMMARY:CDD Board Meeting - Dec. 2025
LOCATION:Oakstead Clubhouse\, 3038 Oakstead Boulevard\, Land O’ Lakes\, F
 lorida
URL;VALUE=URI:https://www.oaksteadcdd.org/calendar/8656664/cdd-board-meetin
 g-dec-2025
DTSTART:20251218T170000Z
DTEND:20251218T200000Z
ATTACH;FILENAME=2025-12-18 Oakstead CDD Agenda Package.pdf;FMTTYPE=applicat
 ion/pdf:https://campussuite-storage.s3.amazonaws.com/prod/1559040/90185f86
 -b7c8-11ea-83c1-0a96d65b7e15/3052631/38be1900-dabe-11f0-8ed2-0affee33b3f5/
 file/2025-12-18 Oakstead CDD Agenda Package.pdf
END:VEVENT
END:VCALENDAR
