BEGIN:VCALENDAR
VERSION:2.0
PRODID:SchoolNow
CALSCALE:GREGORIAN
BEGIN:VEVENT
UID:9cb26812-9892-11f0-a8f5-0256aee05833
DTSTAMP:20251117T215325Z
SUMMARY:CDD Board Meeting - Nov. 2025
LOCATION:Oakstead Clubhouse\, 3038 Oakstead Boulevard\, Land O’ Lakes\, F
 lorida
URL;VALUE=URI:https://www.oaksteadcdd.org/calendar/8656663/cdd-board-meetin
 g-nov-2025
DTSTART:20251120T170000Z
DTEND:20251120T200000Z
ATTACH;FILENAME=2025-11-20 Oakstead Agenda Package (1).pdf;FMTTYPE=applicat
 ion/pdf:https://campussuite-storage.s3.amazonaws.com/prod/1559040/90185f86
 -b7c8-11ea-83c1-0a96d65b7e15/3039926/d4d6f116-c3ff-11f0-955d-0e51efc2a261/
 file/2025-11-20 Oakstead Agenda Package (1).pdf
END:VEVENT
END:VCALENDAR
